BEGIN:VCALENDAR
VERSION:2.0
PRODID:-//Central Florida Home Brewers Association - ECPv6.4.0//NONSGML v1.0//EN
CALSCALE:GREGORIAN
METHOD:PUBLISH
X-WR-CALNAME:Central Florida Home Brewers Association
X-ORIGINAL-URL:https://cfhb.org
X-WR-CALDESC:Events for Central Florida Home Brewers Association
REFRESH-INTERVAL;VALUE=DURATION:PT1H
X-Robots-Tag:noindex
X-PUBLISHED-TTL:PT1H
BEGIN:VTIMEZONE
TZID:America/New_York
BEGIN:DAYLIGHT
TZOFFSETFROM:-0500
TZOFFSETTO:-0400
TZNAME:EDT
DTSTART:20220313T070000
END:DAYLIGHT
BEGIN:STANDARD
TZOFFSETFROM:-0400
TZOFFSETTO:-0500
TZNAME:EST
DTSTART:20221106T060000
END:STANDARD
END:VTIMEZONE
BEGIN:VEVENT
DTSTART;TZID=America/New_York:20220807T153000
DTEND;TZID=America/New_York:20220807T180000
DTSTAMP:20260425T151017
CREATED:20220613T195732Z
LAST-MODIFIED:20220613T195732Z
UID:2861-1659886200-1659895200@cfhb.org
SUMMARY:August 2022 Meeting
DESCRIPTION:Our general membership meeting for August will be held on Sunday\, August 7th\, 2022.
URL:https://cfhb.org/event/august-2022-meeting/
LOCATION:Dead Lizard Brewing Company\, 4507 36th St\, Building C\, Orlando\, FL\, 32811\, United States
CATEGORIES:Monthly Meetings
ATTACH;FMTTYPE=image/jpeg:https://cfhb.org/wp-content/uploads/2022/06/august2022-1.jpg
END:VEVENT
END:VCALENDAR