BEGIN:VCALENDAR
VERSION:2.0
PRODID:-//Central Florida Home Brewers Association - ECPv6.4.0//NONSGML v1.0//EN
CALSCALE:GREGORIAN
METHOD:PUBLISH
X-WR-CALNAME:Central Florida Home Brewers Association
X-ORIGINAL-URL:https://cfhb.org
X-WR-CALDESC:Events for Central Florida Home Brewers Association
REFRESH-INTERVAL;VALUE=DURATION:PT1H
X-Robots-Tag:noindex
X-PUBLISHED-TTL:PT1H
BEGIN:VTIMEZONE
TZID:America/New_York
BEGIN:DAYLIGHT
TZOFFSETFROM:-0500
TZOFFSETTO:-0400
TZNAME:EDT
DTSTART:20250309T070000
END:DAYLIGHT
BEGIN:STANDARD
TZOFFSETFROM:-0400
TZOFFSETTO:-0500
TZNAME:EST
DTSTART:20251102T060000
END:STANDARD
END:VTIMEZONE
BEGIN:VEVENT
DTSTART;TZID=America/New_York:20250302T153000
DTEND;TZID=America/New_York:20250302T180000
DTSTAMP:20260423T073439
CREATED:20250209T160505Z
LAST-MODIFIED:20250209T160505Z
UID:3298-1740929400-1740938400@cfhb.org
SUMMARY:Monthly Meeting - March
DESCRIPTION:Join us March 2nd for our monthly meeting! \nCome on out\, grab a brew and some of their fantastic pizza! \nMellow Mushroom \nLocation: \n11680 Colonial Dr\nOrlando\, Fl. 32817\nTime: 3:30pm
URL:https://cfhb.org/event/monthly-meeting-march-2/
LOCATION:Mellow Mushroom – Orlando\, 11680 Colonial Drive\, Orlando\, FL\, 32817\, United States
CATEGORIES:Monthly Meetings
ATTACH;FMTTYPE=image/jpeg:https://cfhb.org/wp-content/uploads/2022/05/clearArticle.jpg
END:VEVENT
END:VCALENDAR