BEGIN:VCALENDAR
VERSION:2.0
PRODID:-//Central Florida Home Brewers Association - ECPv6.4.0//NONSGML v1.0//EN
CALSCALE:GREGORIAN
METHOD:PUBLISH
X-WR-CALNAME:Central Florida Home Brewers Association
X-ORIGINAL-URL:https://cfhb.org
X-WR-CALDESC:Events for Central Florida Home Brewers Association
REFRESH-INTERVAL;VALUE=DURATION:PT1H
X-Robots-Tag:noindex
X-PUBLISHED-TTL:PT1H
BEGIN:VTIMEZONE
TZID:America/New_York
BEGIN:DAYLIGHT
TZOFFSETFROM:-0500
TZOFFSETTO:-0400
TZNAME:EDT
DTSTART:20250309T070000
END:DAYLIGHT
BEGIN:STANDARD
TZOFFSETFROM:-0400
TZOFFSETTO:-0500
TZNAME:EST
DTSTART:20251102T060000
END:STANDARD
BEGIN:DAYLIGHT
TZOFFSETFROM:-0500
TZOFFSETTO:-0400
TZNAME:EDT
DTSTART:20260308T070000
END:DAYLIGHT
BEGIN:STANDARD
TZOFFSETFROM:-0400
TZOFFSETTO:-0500
TZNAME:EST
DTSTART:20261101T060000
END:STANDARD
END:VTIMEZONE
BEGIN:VEVENT
DTSTART;TZID=America/New_York:20250215T140000
DTEND;TZID=America/New_York:20250215T200000
DTSTAMP:20260425T210051
CREATED:20250209T155221Z
LAST-MODIFIED:20250209T160357Z
UID:3294-1739628000-1739649600@cfhb.org
SUMMARY:Stouts and Stogies 2025
DESCRIPTION:Come out to the Stout and Stogie event and enjoy great food\, good times\, your favorite stout\, and if you smoke cigars\, your favorite stogie or two.\nBob and Joy are your hosts this afternoon! The event is open to all active CFHB members + one guest of a CFHB member.\nWe’ll be brewing up a Stein Bier\, a traditional style of beer that involves heating stones over an open fire and then placing them directly into the wort.
URL:https://cfhb.org/event/stouts-and-stogies-2025/
CATEGORIES:Event
ATTACH;FMTTYPE=image/jpeg:https://cfhb.org/wp-content/uploads/2025/02/50466416_10217424648225159_6820474861379387392_n.jpg
END:VEVENT
BEGIN:VEVENT
DTSTART;TZID=America/New_York:20260502T080000
DTEND;TZID=America/New_York:20260523T180000
DTSTAMP:20260425T210052
CREATED:20260425T151817Z
LAST-MODIFIED:20260425T151817Z
UID:3391-1777708800-1779559200@cfhb.org
SUMMARY:Hot 'N Humid Brew-Off 2026 Entry Registration
DESCRIPTION:Brewers Anonymous “Hot ‘N Humid Brew-Off 2026”. \nRegistry for entries opens May 2nd\, 2026 – 8am! \nThere is a 300 entry cap on this competition – don’t wait to entry! \nLimit 3 entries brewers. \n3 Bottles needed for each entry. \nRegister your entry with reggiebeer.com directly at this link: https://reggiebeer.com/ReggieEntry.php?CompetitionID=XQFXJO1000968 \nDetails on the competition can be found here: https://brewersanonymous.org/hot-n-humid-brew-off-2026/
URL:https://cfhb.org/event/hot-n-humid-brew-off-2026-entry-registration/
CATEGORIES:Event
ATTACH;FMTTYPE=image/jpeg:https://cfhb.org/wp-content/uploads/2026/04/2026eventHeader-1536x864-1.jpg
END:VEVENT
BEGIN:VEVENT
DTSTART;TZID=America/New_York:20260503T153000
DTEND;TZID=America/New_York:20260503T180000
DTSTAMP:20260425T210052
CREATED:20260424T144621Z
LAST-MODIFIED:20260424T144932Z
UID:3385-1777822200-1777831200@cfhb.org
SUMMARY:Monthly Meeting - May
DESCRIPTION:Join us May 3rd for our monthly meeting! \nCome on out\, grab a brew and some of their fantastic pizza\, sandwiches and snacks! \nIvanhoe Park Lager House \nLocation: \n32 N Orange Blossom Trl\,\nOrlando\, FL 32805\nTime: 3:30pm
URL:https://cfhb.org/event/monthly-meeting-may/
LOCATION:Ivanhoe Park Lager Huse\, 23 N Orange Blossom Trl\, Orlando\, FL\, 32805\, United States
CATEGORIES:Event,Monthly Meetings
ATTACH;FMTTYPE=image/jpeg:https://cfhb.org/wp-content/uploads/2022/05/clearArticle.jpg
END:VEVENT
END:VCALENDAR