BEGIN:VCALENDAR
VERSION:2.0
PRODID:-//Central Florida Home Brewers Association - ECPv6.4.0//NONSGML v1.0//EN
CALSCALE:GREGORIAN
METHOD:PUBLISH
X-WR-CALNAME:Central Florida Home Brewers Association
X-ORIGINAL-URL:https://cfhb.org
X-WR-CALDESC:Events for Central Florida Home Brewers Association
REFRESH-INTERVAL;VALUE=DURATION:PT1H
X-Robots-Tag:noindex
X-PUBLISHED-TTL:PT1H
BEGIN:VTIMEZONE
TZID:America/New_York
BEGIN:DAYLIGHT
TZOFFSETFROM:-0500
TZOFFSETTO:-0400
TZNAME:EDT
DTSTART:20210314T070000
END:DAYLIGHT
BEGIN:STANDARD
TZOFFSETFROM:-0400
TZOFFSETTO:-0500
TZNAME:EST
DTSTART:20211107T060000
END:STANDARD
BEGIN:DAYLIGHT
TZOFFSETFROM:-0500
TZOFFSETTO:-0400
TZNAME:EDT
DTSTART:20220313T070000
END:DAYLIGHT
BEGIN:STANDARD
TZOFFSETFROM:-0400
TZOFFSETTO:-0500
TZNAME:EST
DTSTART:20221106T060000
END:STANDARD
BEGIN:DAYLIGHT
TZOFFSETFROM:-0500
TZOFFSETTO:-0400
TZNAME:EDT
DTSTART:20230312T070000
END:DAYLIGHT
BEGIN:STANDARD
TZOFFSETFROM:-0400
TZOFFSETTO:-0500
TZNAME:EST
DTSTART:20231105T060000
END:STANDARD
BEGIN:DAYLIGHT
TZOFFSETFROM:-0500
TZOFFSETTO:-0400
TZNAME:EDT
DTSTART:20240310T070000
END:DAYLIGHT
BEGIN:STANDARD
TZOFFSETFROM:-0400
TZOFFSETTO:-0500
TZNAME:EST
DTSTART:20241103T060000
END:STANDARD
BEGIN:DAYLIGHT
TZOFFSETFROM:-0500
TZOFFSETTO:-0400
TZNAME:EDT
DTSTART:20250309T070000
END:DAYLIGHT
BEGIN:STANDARD
TZOFFSETFROM:-0400
TZOFFSETTO:-0500
TZNAME:EST
DTSTART:20251102T060000
END:STANDARD
END:VTIMEZONE
BEGIN:VEVENT
DTSTART;VALUE=DATE:20211204
DTEND;VALUE=DATE:20211205
DTSTAMP:20260423T024610
CREATED:20210927T161426Z
LAST-MODIFIED:20211108T210940Z
UID:2660-1638576000-1638662399@cfhb.org
SUMMARY:Commander SAAZ 2021 Awards
DESCRIPTION:The 2021 Commander SAAZ Awards will take place on December 4th\, 2021. \nThere will be an outdoor event for the awards at Rotary Pavilion at Viera Regional Park\, 2300 Judge Fran Jamieson Way\, Melbourne\, FL 32940. \nTime and details TBD. \nFor all the latest information\, please visit the Commander Saaz event page at: http://www.saaz.org/cms/csaaz/2021-commander-saaz-page/
URL:https://cfhb.org/event/commander-saaz-2021-awards/
CATEGORIES:Event
ATTACH;FMTTYPE=image/jpeg:https://cfhb.org/wp-content/uploads/2021/09/saaz21Awards.jpg
END:VEVENT
BEGIN:VEVENT
DTSTART;TZID=America/New_York:20220226T140000
DTEND;TZID=America/New_York:20220226T180000
DTSTAMP:20260423T024610
CREATED:20220121T225827Z
LAST-MODIFIED:20220121T225827Z
UID:2720-1645884000-1645898400@cfhb.org
SUMMARY:4th annual Iron Homebrewer Charity Festival and Competition
DESCRIPTION:Come out and support the 4th annual Iron Homebrewer Charity Festival and Competition hosted by the Pasco County Brewers Guild and Liquid Garage Co! \nUnlimited samples from several local Pro Breweries and the homebrewers’ competition beers! The homebrewers will compete at the event by bringing a beer brewed with a randomly selected ingredient. You’ll be guaranteed to try some unique brews! \nThe CFHB has 3 TEAMS participating in this event: \nTeam 1 – Matt and Khrysti Hunsworth – Random Ingredient: Mallomars\nTeam 2 – Dave Snow and Danny Cadow – Random Ingredient: Popcorn\nTeam 3 – Bob and Joy Wietor – Random Ingredient: Sage \nThis is a ticketed event with the proceeds benefitting Battle Buddies Florida\, Inc.! This organization is established to help veterans and first responders with PTSD by supplying service dogs to them through saving and training rescue dogs from local shelters and animal rescue groups. \nGet your tickets here: https://www.eventbrite.com/e/annual-iron-homebrewer-charity-beer-festival-and-competition-2022-tickets-206136368427 \nCome on out and support our club teams while experiencing some once in lifetime beers!
URL:https://cfhb.org/event/4th-annual-iron-homebrewer-charity-festival-and-competition/
LOCATION:The Liquid Garage\, 1306 Seven Springs Blvd\, New Port Richey\, FL\, 34655\, United States
CATEGORIES:Event
ATTACH;FMTTYPE=image/jpeg:https://cfhb.org/wp-content/uploads/2022/01/https-_cdn.evbuc_.com_images_181153059_157465066311_1_original.20211106-025457.jpg
END:VEVENT
BEGIN:VEVENT
DTSTART;TZID=America/New_York:20230915T120000
DTEND;TZID=America/New_York:20230916T210000
DTSTAMP:20260423T024610
CREATED:20230731T205605Z
LAST-MODIFIED:20230731T205627Z
UID:3124-1694779200-1694898000@cfhb.org
SUMMARY:Sunshine Challenge 2023 - Competition Awards Weekend
DESCRIPTION:The awards weekend for the Sunshine Challenge 2023 take place September 15-16\, 2021. \nFor more information on this competition\, please visit: https://cfhb.org/sunshine-challenge/
URL:https://cfhb.org/event/sunshine-challenge-2023-competition-awards-weekend/
CATEGORIES:Event
ATTACH;FMTTYPE=image/jpeg:https://cfhb.org/wp-content/uploads/2023/03/ssc2023banner.jpg
END:VEVENT
BEGIN:VEVENT
DTSTART;TZID=America/New_York:20241004T120000
DTEND;TZID=America/New_York:20241006T210000
DTSTAMP:20260423T024610
CREATED:20240626T203111Z
LAST-MODIFIED:20240626T203542Z
UID:3238-1728043200-1728248400@cfhb.org
SUMMARY:Sunshine Challenge 2024 - Competition Awards Weekend
DESCRIPTION:The awards weekend for the Sunshine Challenge 2024 take place October 4-6\, 2024\nFor more information on this competition\, please visit: https://cfhb.org/sunshine-challenge/
URL:https://cfhb.org/event/sunshine-challenge-2024-competition-awards-weekend/
CATEGORIES:Event
ATTACH;FMTTYPE=image/jpeg:https://cfhb.org/wp-content/uploads/2024/06/bavarianCoupleMedal-2024-sized.jpg
END:VEVENT
BEGIN:VEVENT
DTSTART;TZID=America/New_York:20250215T140000
DTEND;TZID=America/New_York:20250215T200000
DTSTAMP:20260423T024610
CREATED:20250209T155221Z
LAST-MODIFIED:20250209T160357Z
UID:3294-1739628000-1739649600@cfhb.org
SUMMARY:Stouts and Stogies 2025
DESCRIPTION:Come out to the Stout and Stogie event and enjoy great food\, good times\, your favorite stout\, and if you smoke cigars\, your favorite stogie or two.\nBob and Joy are your hosts this afternoon! The event is open to all active CFHB members + one guest of a CFHB member.\nWe’ll be brewing up a Stein Bier\, a traditional style of beer that involves heating stones over an open fire and then placing them directly into the wort.
URL:https://cfhb.org/event/stouts-and-stogies-2025/
CATEGORIES:Event
ATTACH;FMTTYPE=image/jpeg:https://cfhb.org/wp-content/uploads/2025/02/50466416_10217424648225159_6820474861379387392_n.jpg
END:VEVENT
END:VCALENDAR