BEGIN:VCALENDAR
VERSION:2.0
PRODID:-//Central Florida Home Brewers Association - ECPv6.4.0//NONSGML v1.0//EN
CALSCALE:GREGORIAN
METHOD:PUBLISH
X-ORIGINAL-URL:https://cfhb.org
X-WR-CALDESC:Events for Central Florida Home Brewers Association
REFRESH-INTERVAL;VALUE=DURATION:PT1H
X-Robots-Tag:noindex
X-PUBLISHED-TTL:PT1H
BEGIN:VTIMEZONE
TZID:America/New_York
BEGIN:DAYLIGHT
TZOFFSETFROM:-0500
TZOFFSETTO:-0400
TZNAME:EDT
DTSTART:20210314T070000
END:DAYLIGHT
BEGIN:STANDARD
TZOFFSETFROM:-0400
TZOFFSETTO:-0500
TZNAME:EST
DTSTART:20211107T060000
END:STANDARD
END:VTIMEZONE
BEGIN:VEVENT
DTSTART;TZID=America/New_York:20211008T120000
DTEND;TZID=America/New_York:20211030T170000
DTSTAMP:20260422T121012
CREATED:20210927T161013Z
LAST-MODIFIED:20210927T161013Z
UID:2656-1633694400-1635613200@cfhb.org
SUMMARY:Commander SAAZ 2021 Entry Delivery
DESCRIPTION:You’ve entered SAAZ (right???) no don’t forget  to drop off you entries during this entry delivery window October 8th\, 2021 to October 30th\, 2021. \nDrop off location: TBD \nFor more information\, visit: https://reggiebeer.com/ReggieEntry.php?CompetitionID=LRTHAP1000668
URL:https://cfhb.org/event/commander-saaz-2021-entry-delivery/
CATEGORIES:Event
ATTACH;FMTTYPE=image/jpeg:https://cfhb.org/wp-content/uploads/2021/09/saazEntriesDue.jpg
END:VEVENT
END:VCALENDAR