BEGIN:VCALENDAR
VERSION:2.0
PRODID:-//Central Florida Home Brewers Association - ECPv6.4.0//NONSGML v1.0//EN
CALSCALE:GREGORIAN
METHOD:PUBLISH
X-ORIGINAL-URL:https://cfhb.org
X-WR-CALDESC:Events for Central Florida Home Brewers Association
REFRESH-INTERVAL;VALUE=DURATION:PT1H
X-Robots-Tag:noindex
X-PUBLISHED-TTL:PT1H
BEGIN:VTIMEZONE
TZID:America/New_York
BEGIN:DAYLIGHT
TZOFFSETFROM:-0500
TZOFFSETTO:-0400
TZNAME:EDT
DTSTART:20210314T070000
END:DAYLIGHT
BEGIN:STANDARD
TZOFFSETFROM:-0400
TZOFFSETTO:-0500
TZNAME:EST
DTSTART:20211107T060000
END:STANDARD
END:VTIMEZONE
BEGIN:VEVENT
DTSTART;TZID=America/New_York:20210626T000000
DTEND;TZID=America/New_York:20210724T180000
DTSTAMP:20260422T182123
CREATED:20210413T160700Z
LAST-MODIFIED:20210413T160700Z
UID:2479-1624665600-1627149600@cfhb.org
SUMMARY:Hot 'N Humid Brew-Off 2021 Entry Registration
DESCRIPTION:Brewers Anonymous “Hot ‘N Humid Brew-Off 2021” is a go! \nRegistry for entries opens Jun 26th\, 2021 – AT MIDNIGHT! \nThere is a 200 entry cap on this competition – don’t wait to entry! \nLimit 3 entries brewers. \n4 Bottles needed for each entry. \nRegister your entry with reggiebeer.com directly at this link: https://reggiebeer.com/ReggieEntry.php?CompetitionID=TSJMAF1000614 \nDetails on the competition can be found here: https://brewersanonymous.org/hot-n-humid-brew-off/
URL:https://cfhb.org/event/hot-n-humid-brew-off-2021-entry-registration/
CATEGORIES:Event
ATTACH;FMTTYPE=image/jpeg:https://cfhb.org/wp-content/uploads/2021/04/hnhReg-2.jpg
END:VEVENT
BEGIN:VEVENT
DTSTART;TZID=America/New_York:20210626T100000
DTEND;TZID=America/New_York:20210724T190000
DTSTAMP:20260422T182123
CREATED:20210413T161103Z
LAST-MODIFIED:20210413T161103Z
UID:2484-1624701600-1627153200@cfhb.org
SUMMARY:Hot 'N Humid Brew-Off 2021 Entries Due
DESCRIPTION:If you have entered the Hot ‘N Humid Brew-Off 2021 competition\, entries are due June 26 – July 24\, 2021. \nDrop-off Location: \nOrlando Homebrew Supplies / RockPit Brewing\n10 W. Illiana St.\nOrlando\, FL 32806 \nReminder\, 4 bottles are required per entry for this competition. \nFor more details on this competition\, please visit: https://brewersanonymous.org/hot-n-humid-brew-off/
URL:https://cfhb.org/event/hot-n-humid-brew-off-2021-entries-due/
CATEGORIES:Event
ATTACH;FMTTYPE=image/jpeg:https://cfhb.org/wp-content/uploads/2021/04/hnhDue.jpg
END:VEVENT
END:VCALENDAR