BEGIN:VCALENDAR
VERSION:2.0
PRODID:-//Central Florida Home Brewers Association - ECPv6.4.0//NONSGML v1.0//EN
CALSCALE:GREGORIAN
METHOD:PUBLISH
X-WR-CALNAME:Central Florida Home Brewers Association
X-ORIGINAL-URL:https://cfhb.org
X-WR-CALDESC:Events for Central Florida Home Brewers Association
REFRESH-INTERVAL;VALUE=DURATION:PT1H
X-Robots-Tag:noindex
X-PUBLISHED-TTL:PT1H
BEGIN:VTIMEZONE
TZID:America/New_York
BEGIN:DAYLIGHT
TZOFFSETFROM:-0500
TZOFFSETTO:-0400
TZNAME:EDT
DTSTART:20210314T070000
END:DAYLIGHT
BEGIN:STANDARD
TZOFFSETFROM:-0400
TZOFFSETTO:-0500
TZNAME:EST
DTSTART:20211107T060000
END:STANDARD
END:VTIMEZONE
BEGIN:VEVENT
DTSTART;TZID=America/New_York:20210602T080000
DTEND;TZID=America/New_York:20210625T170000
DTSTAMP:20260422T181816
CREATED:20210413T162407Z
LAST-MODIFIED:20210413T162407Z
UID:2490-1622620800-1624640400@cfhb.org
SUMMARY:First Coast Cup 2021 - Entry Registration
DESCRIPTION:C.A.S.K.’s “First Coast Cup 2021” is a go! \nRegistry for entries opens Jun 2nd\, 2021. \nThere is a 400 entry cap on this competition – don’t wait to entry! \nLimit 3 entries brewers. \n4 Bottles needed for each entry. \nRegister your entry with reggiebeer.com directly at this link: https://reggiebeer.com/ReggieEntry.php?CompetitionID=HEZMAN1000628 \nDetails on the competition can be found here: http://www.thecask.org/first-coast-cup/
URL:https://cfhb.org/event/first-coast-cup-2021-entry-registration/
CATEGORIES:Event
ATTACH;FMTTYPE=image/jpeg:https://cfhb.org/wp-content/uploads/2021/04/firstCoastReg.jpg
END:VEVENT
BEGIN:VEVENT
DTSTART;TZID=America/New_York:20210602T093000
DTEND;TZID=America/New_York:20210625T170000
DTSTAMP:20260422T181816
CREATED:20210413T162728Z
LAST-MODIFIED:20210413T162728Z
UID:2493-1622626200-1624640400@cfhb.org
SUMMARY:First Coast Cup 2021 - Entries Due
DESCRIPTION:If you have entered the First Coast Cup 2021 competition\, entries are due June 2nd to June 25th\, 2021. \nDrop-off Location is TBD\, this event will be updated when that information become available. \nReminder\, 4 bottles are required per entry for this competition. \nFor more details on this competition\, please visit: http://www.thecask.org/first-coast-cup/
URL:https://cfhb.org/event/first-coast-cup-2021-entries-due/
CATEGORIES:Event
ATTACH;FMTTYPE=image/jpeg:https://cfhb.org/wp-content/uploads/2021/04/fristCoastDue.jpg
END:VEVENT
END:VCALENDAR