BEGIN:VCALENDAR
VERSION:2.0
PRODID:-//Central Florida Home Brewers Association - ECPv6.4.0//NONSGML v1.0//EN
CALSCALE:GREGORIAN
METHOD:PUBLISH
X-ORIGINAL-URL:https://cfhb.org
X-WR-CALDESC:Events for Central Florida Home Brewers Association
REFRESH-INTERVAL;VALUE=DURATION:PT1H
X-Robots-Tag:noindex
X-PUBLISHED-TTL:PT1H
BEGIN:VTIMEZONE
TZID:America/New_York
BEGIN:DAYLIGHT
TZOFFSETFROM:-0500
TZOFFSETTO:-0400
TZNAME:EDT
DTSTART:20210314T070000
END:DAYLIGHT
BEGIN:STANDARD
TZOFFSETFROM:-0400
TZOFFSETTO:-0500
TZNAME:EST
DTSTART:20211107T060000
END:STANDARD
END:VTIMEZONE
BEGIN:VEVENT
DTSTART;TZID=America/New_York:20210415T090000
DTEND;TZID=America/New_York:20210506T170000
DTSTAMP:20260422T194800
CREATED:20210116T150336Z
LAST-MODIFIED:20210116T150336Z
UID:2400-1618477200-1620320400@cfhb.org
SUMMARY:Coconut Cup 2021 - Entries Due
DESCRIPTION:If you have entered the Coconut Cup 2021 competition\, entries are due April 15th to May 6th\, 2021. \nDrop-off Location is TBD\, this event will be updated when that information become available. \nReminder\, 4 bottles are required per entry for this competition. \nFor more details on this competition\, please visit: http://miami-homebrew.org/2021-coconut-cup/ \n 
URL:https://cfhb.org/event/coconut-cup-2021-entries-due/
CATEGORIES:Event
ATTACH;FMTTYPE=image/jpeg:https://cfhb.org/wp-content/uploads/2021/01/coconutDue.jpg
END:VEVENT
END:VCALENDAR