BEGIN:VCALENDAR
VERSION:2.0
PRODID:-//Central Florida Home Brewers Association - ECPv6.4.0//NONSGML v1.0//EN
CALSCALE:GREGORIAN
METHOD:PUBLISH
X-ORIGINAL-URL:https://cfhb.org
X-WR-CALDESC:Events for Central Florida Home Brewers Association
REFRESH-INTERVAL;VALUE=DURATION:PT1H
X-Robots-Tag:noindex
X-PUBLISHED-TTL:PT1H
BEGIN:VTIMEZONE
TZID:America/New_York
BEGIN:DAYLIGHT
TZOFFSETFROM:-0500
TZOFFSETTO:-0400
TZNAME:EDT
DTSTART:20210314T070000
END:DAYLIGHT
BEGIN:STANDARD
TZOFFSETFROM:-0400
TZOFFSETTO:-0500
TZNAME:EST
DTSTART:20211107T060000
END:STANDARD
END:VTIMEZONE
BEGIN:VEVENT
DTSTART;TZID=America/New_York:20210801T110000
DTEND;TZID=America/New_York:20210815T220000
DTSTAMP:20260422T133309
CREATED:20210413T165211Z
LAST-MODIFIED:20210413T165549Z
UID:2504-1627815600-1629064800@cfhb.org
SUMMARY:Sunshine Challenge 2021 - Entries Due
DESCRIPTION:If you have entered the Sunshine Challenge 2021 competition\, entries are due August 1st to August 15th\, 2021. \nDrop-off Location is TBD\, this event will be updated when that information become available. \nReminder\, 4 bottles are required per entry for this competition. \nFor more details on this competition\, please visit: https://cfhb.org/sunshine-challenge/
URL:https://cfhb.org/event/sunshine-challenge-2021-entries-due/
CATEGORIES:Event
ATTACH;FMTTYPE=image/jpeg:https://cfhb.org/wp-content/uploads/2021/04/sscDue.jpg
END:VEVENT
BEGIN:VEVENT
DTSTART;TZID=America/New_York:20210828T120000
DTEND;TZID=America/New_York:20210828T170000
DTSTAMP:20260422T133309
CREATED:20210413T161415Z
LAST-MODIFIED:20210413T161626Z
UID:2487-1630152000-1630170000@cfhb.org
SUMMARY:Hot 'N Humid Brew-Off 2021 Competition Awards
DESCRIPTION:The Hot ‘N Humid Brew-Off 2021 Competition awards at August 28th\, 2021 \nTimes and details along with any streaming information will be posted here when it become available. \nFor more on the Hot ‘N Humid Brew-Off 2021\, please visit: https://brewersanonymous.org/hot-n-humid-brew-off/
URL:https://cfhb.org/event/hot-n-humid-brew-off-2021-competition-awards/
CATEGORIES:Event
ATTACH;FMTTYPE=image/jpeg:https://cfhb.org/wp-content/uploads/2021/04/hnhAwrds.jpg
END:VEVENT
END:VCALENDAR